
BEGIN:VCALENDAR
VERSION:2.0
PRODID:-//platformart - ECPv6.2.9//NONSGML v1.0//EN
CALSCALE:GREGORIAN
METHOD:PUBLISH
X-ORIGINAL-URL:https://platformartvalencia.com/es/
X-WR-CALDESC:Eventos para platformart
REFRESH-INTERVAL;VALUE=DURATION:PT1H
X-Robots-Tag:noindex
X-PUBLISHED-TTL:PT1H
BEGIN:VTIMEZONE
TZID:Europe/Moscow
BEGIN:STANDARD
TZOFFSETFROM:+0300
TZOFFSETTO:+0300
TZNAME:MSK
DTSTART:20240101T000000
END:STANDARD
END:VTIMEZONE
BEGIN:VEVENT
DTSTART;TZID=Europe/Moscow:20240501T080000
DTEND;TZID=Europe/Moscow:20240501T170000
DTSTAMP:20260422T084515
CREATED:20240310T215937Z
LAST-MODIFIED:20240317T224538Z
UID:10023841-1714550400-1714582800@platformartvalencia.com
SUMMARY:1 de mayo
DESCRIPTION:¡Únete a nuestra emocionante celebración «Festival de Primavera» en honor al 1 de mayo! Nuestro evento\, perfecto para niños de 3 a 10 años\, promete ser vibrante e inolvidable. Sumérgete en un mundo de aventuras asombrosas\, donde te esperan juegos divertidos\, talleres creativos y encuentros con tus personajes de cuento favoritos. La alegría y la diversión llenarán cada rincón de nuestra celebración\, creando una atmósfera festiva y llena de alegría. ¡Regale a su hijo un día lleno de diversión y alegría con nuestro «Festival de Primavera»!
URL:https://platformartvalencia.com/es/event/1-de-mayo/
LOCATION:Большой зал
CATEGORIES:Adultos,Todos los eventos
ATTACH;FMTTYPE=image/jpeg:https://platformartvalencia.com/wp-content/uploads/2024/03/1_ms.jpg
END:VEVENT
END:VCALENDAR