
BEGIN:VCALENDAR
VERSION:2.0
PRODID:-//platformart - ECPv6.2.9//NONSGML v1.0//EN
CALSCALE:GREGORIAN
METHOD:PUBLISH
X-WR-CALNAME:platformart
X-ORIGINAL-URL:https://platformartvalencia.com/es/
X-WR-CALDESC:Eventos para platformart
REFRESH-INTERVAL;VALUE=DURATION:PT1H
X-Robots-Tag:noindex
X-PUBLISHED-TTL:PT1H
BEGIN:VTIMEZONE
TZID:Europe/Moscow
BEGIN:STANDARD
TZOFFSETFROM:+0300
TZOFFSETTO:+0300
TZNAME:MSK
DTSTART:20230101T000000
END:STANDARD
END:VTIMEZONE
BEGIN:VEVENT
DTSTART;TZID=Europe/Moscow:20231029T080000
DTEND;TZID=Europe/Moscow:20231029T170000
DTSTAMP:20260422T123529
CREATED:20240109T201356Z
LAST-MODIFIED:20240109T201356Z
UID:10023838-1698566400-1698598800@platformartvalencia.com
SUMMARY:Un Halloween mágico para niños
DESCRIPTION:Invitamos a jóvenes aventureros y sus familias a una divertida y emocionante fiesta de Halloween! Prepárense para encontrarse con criaturas asombrosas\, enigmas mágicos y un montón de entretenimientos divertidos. Nuestro Halloween Mágico promete estar lleno de sorpresas asombrosas y momentos inolvidables para niños de todas las edades. \nQué les espera: \n\nJuegos temáticos y concursos con acertijos y búsquedas de tesoros.\nTalleres creativos para la creación de decoraciones y máscaras de Halloween.\nUn espectáculo mágico con la participación de brujas\, magos y otros personajes de cuentos.\nUna cena festiva con golosinas de Halloween.\nConcurso de disfraces con premios para los atuendos más originales y aterradores.\n\nPara quién es el evento: Para niños de todas las edades y sus padres que aman Halloween y quieren pasar este día festivo en un ambiente divertido y seguro.
URL:https://platformartvalencia.com/es/event/un-halloween-magico-para-ninos/
LOCATION:Большой зал
CATEGORIES:Adolescentes,Niños,Pequeños,Todos los eventos
ATTACH;FMTTYPE=image/jpeg:https://platformartvalencia.com/wp-content/uploads/2024/01/hell_event-min.jpeg
END:VEVENT
END:VCALENDAR