
BEGIN:VCALENDAR
VERSION:2.0
PRODID:-//platformart - ECPv6.2.9//NONSGML v1.0//EN
CALSCALE:GREGORIAN
METHOD:PUBLISH
X-ORIGINAL-URL:https://platformartvalencia.com/es/
X-WR-CALDESC:Eventos para platformart
REFRESH-INTERVAL;VALUE=DURATION:PT1H
X-Robots-Tag:noindex
X-PUBLISHED-TTL:PT1H
BEGIN:VTIMEZONE
TZID:Europe/Moscow
BEGIN:STANDARD
TZOFFSETFROM:+0300
TZOFFSETTO:+0300
TZNAME:MSK
DTSTART:20230101T000000
END:STANDARD
END:VTIMEZONE
BEGIN:VEVENT
DTSTART;TZID=Europe/Moscow:20231224T080000
DTEND;TZID=Europe/Moscow:20231224T170000
DTSTAMP:20260422T132321
CREATED:20240109T201209Z
LAST-MODIFIED:20240109T201209Z
UID:10023839-1703404800-1703437200@platformartvalencia.com
SUMMARY:Árbol de Navidad
DESCRIPTION:Los invitamos a ustedes y a sus pequeños al mágico mundo de las maravillas navideñas en nuestro maravilloso árbol de Navidad «Cuentas Mágicas»! Este evento ofrecerá a los niños de 2 a 12 años impresiones inolvidables y un mar de alegría. Los personajes principales —Santa Claus y la Niña de Nieve— han preparado para ustedes una aventura fascinante. Los personajes principales —Santa Claus y la Niña de Nieve— han preparado para ustedes una aventura fascinante. Los personajes principales —Santa Claus y la Niña de Nieve— han preparado para ustedes una aventura fascinante. ¡Únanse a nosotros para celebrar juntos esta festividad mágica! \nQué les espera: \n\nUn increíble espectáculo donde caerán del cielo cuentas mágicas que salvarán la festividad!\nJuegos y concursos divertidos para niños de todas las edades.\nUna actuación mágica de Santa Claus y la Niña de Nieve.\nTalleres creativos donde cada niño podrá crear su propio adorno navideño.\nSesión de fotos con los personajes navideños favoritos.
URL:https://platformartvalencia.com/es/event/arbol-de-navidad/
LOCATION:Большой зал
CATEGORIES:Niños,Pequeños,Todos los eventos
ATTACH;FMTTYPE=image/jpeg:https://platformartvalencia.com/wp-content/uploads/2024/01/new_y_event-min.jpeg
END:VEVENT
END:VCALENDAR