
BEGIN:VCALENDAR
VERSION:2.0
PRODID:-//platformart - ECPv6.2.9//NONSGML v1.0//EN
CALSCALE:GREGORIAN
METHOD:PUBLISH
X-WR-CALNAME:platformart
X-ORIGINAL-URL:https://platformartvalencia.com/es/
X-WR-CALDESC:Eventos para platformart
REFRESH-INTERVAL;VALUE=DURATION:PT1H
X-Robots-Tag:noindex
X-PUBLISHED-TTL:PT1H
BEGIN:VTIMEZONE
TZID:Europe/Moscow
BEGIN:STANDARD
TZOFFSETFROM:+0300
TZOFFSETTO:+0300
TZNAME:MSK
DTSTART:20230101T000000
END:STANDARD
END:VTIMEZONE
BEGIN:VEVENT
DTSTART;TZID=Europe/Moscow:20231001T080000
DTEND;TZID=Europe/Moscow:20231001T170000
DTSTAMP:20260424T130548
CREATED:20240109T192258Z
LAST-MODIFIED:20240316T172600Z
UID:10023837-1696147200-1696179600@platformartvalencia.com
SUMMARY:Noche de jazz con Olga Markova
DESCRIPTION:Los invitamos a celebrar el Día Internacional de la Música en una inolvidable noche de jazz en compañía de la famosa cantante de jazz Olga Markova. Esta noche promete ser una verdadera fiesta para todos los amantes del jazz\, donde cada nota y cada acorde están impregnados de pasión y maestría. \nQué les espera: \n\nUna actuación exclusiva de Olga Markova\, una de las estrellas más brillantes del jazz contemporáneo.\nUn programa rico que incluye tanto composiciones clásicas de jazz como obras originales de Olga.\nUna atmósfera de confort y creatividad\, ideal para sumergirse en el mundo de la música jazz.\nLa oportunidad de interactuar con el artista y hacer preguntas después del concierto.\n\nPara quién es el evento: Para todos los que valoran el jazz y buscan inspiración en la música. Esta noche será la elección perfecta tanto para melómanos como para principiantes en el mundo del jazz.
URL:https://platformartvalencia.com/es/event/noche-de-jazz-con-olga-markova/
LOCATION:Большой зал
CATEGORIES:Adultos,Todos los eventos
ATTACH;FMTTYPE=image/jpeg:https://platformartvalencia.com/wp-content/uploads/2024/01/jass_event-min.jpeg
END:VEVENT
END:VCALENDAR