
BEGIN:VCALENDAR
VERSION:2.0
PRODID:-//platformart - ECPv6.2.9//NONSGML v1.0//EN
CALSCALE:GREGORIAN
METHOD:PUBLISH
X-ORIGINAL-URL:https://platformartvalencia.com/en/
X-WR-CALDESC:Events for platformart
REFRESH-INTERVAL;VALUE=DURATION:PT1H
X-Robots-Tag:noindex
X-PUBLISHED-TTL:PT1H
BEGIN:VTIMEZONE
TZID:Europe/Moscow
BEGIN:STANDARD
TZOFFSETFROM:+0300
TZOFFSETTO:+0300
TZNAME:MSK
DTSTART:20230101T000000
END:STANDARD
END:VTIMEZONE
BEGIN:VEVENT
DTSTART;TZID=Europe/Moscow:20231029T080000
DTEND;TZID=Europe/Moscow:20231029T170000
DTSTAMP:20260422T132950
CREATED:20240109T201356Z
LAST-MODIFIED:20240109T201356Z
UID:10023845-1698566400-1698598800@platformartvalencia.com
SUMMARY:Magical Halloween for Kids
DESCRIPTION:We invite young adventurers and their families to a fun and exciting Halloween celebration! Get ready to meet amazing creatures\, magical mysteries\, and lots of fun entertainment. Our Magical Halloween promises to be full of amazing surprises and unforgettable moments for children of all ages. \nWhat awaits you: \n\nThemed games and contests with puzzles and treasure hunts.\nCreative workshops for making Halloween decorations and masks.\nA magical show featuring witches\, wizards\, and other fairy-tale characters.\nFestive dinner with Halloween treats.\nA costume contest with prizes for the most original and scary looks.\n\nWho the event is for: For children of all ages and their parents who love Halloween and want to spend this holiday in a fun and safe atmosphere.
URL:https://platformartvalencia.com/en/event/magical-halloween-for-kids/
LOCATION:Большой зал
CATEGORIES:All events,Children,Preschoolers,Teens
ATTACH;FMTTYPE=image/jpeg:https://platformartvalencia.com/wp-content/uploads/2024/01/hell_event-min.jpeg
END:VEVENT
END:VCALENDAR