
BEGIN:VCALENDAR
VERSION:2.0
PRODID:-//platformart - ECPv6.2.9//NONSGML v1.0//EN
CALSCALE:GREGORIAN
METHOD:PUBLISH
X-WR-CALNAME:platformart
X-ORIGINAL-URL:https://platformartvalencia.com/en/
X-WR-CALDESC:Events for platformart
REFRESH-INTERVAL;VALUE=DURATION:PT1H
X-Robots-Tag:noindex
X-PUBLISHED-TTL:PT1H
BEGIN:VTIMEZONE
TZID:Europe/Moscow
BEGIN:STANDARD
TZOFFSETFROM:+0300
TZOFFSETTO:+0300
TZNAME:MSK
DTSTART:20240101T000000
END:STANDARD
END:VTIMEZONE
BEGIN:VEVENT
DTSTART;TZID=Europe/Moscow:20240501T080000
DTEND;TZID=Europe/Moscow:20240501T170000
DTSTAMP:20260422T112040
CREATED:20240310T215937Z
LAST-MODIFIED:20240310T215937Z
UID:10023842-1714550400-1714582800@platformartvalencia.com
SUMMARY:May 1s
DESCRIPTION:Join our exciting “Spring Festival” celebration in honor of May 1st! Our event\, perfect for children aged 3 to 10\, promises to be vibrant and unforgettable. Dive into a world of amazing adventures\, where fun games\, creative workshops\, and meetings with beloved fairy-tale characters await you. Joy and laughter will fill every corner of our festival\, creating an atmosphere of festivity and happiness. Give your child a day filled with fun and joy\, together with our “Spring Festival”!
URL:https://platformartvalencia.com/en/event/may-1s/
LOCATION:Большой зал
CATEGORIES:Adults,All events
ATTACH;FMTTYPE=image/jpeg:https://platformartvalencia.com/wp-content/uploads/2024/03/1_ms.jpg
END:VEVENT
END:VCALENDAR