
BEGIN:VCALENDAR
VERSION:2.0
PRODID:-//platformart - ECPv6.2.9//NONSGML v1.0//EN
CALSCALE:GREGORIAN
METHOD:PUBLISH
X-WR-CALNAME:platformart
X-ORIGINAL-URL:https://platformartvalencia.com/en/
X-WR-CALDESC:Events for platformart
REFRESH-INTERVAL;VALUE=DURATION:PT1H
X-Robots-Tag:noindex
X-PUBLISHED-TTL:PT1H
BEGIN:VTIMEZONE
TZID:Europe/Moscow
BEGIN:STANDARD
TZOFFSETFROM:+0300
TZOFFSETTO:+0300
TZNAME:MSK
DTSTART:20230101T000000
END:STANDARD
END:VTIMEZONE
BEGIN:VEVENT
DTSTART;TZID=Europe/Moscow:20231001T080000
DTEND;TZID=Europe/Moscow:20231001T170000
DTSTAMP:20260422T211402
CREATED:20240109T192258Z
LAST-MODIFIED:20240109T192258Z
UID:10023846-1696147200-1696179600@platformartvalencia.com
SUMMARY:Jazz Evening with Olga Markova
DESCRIPTION:We invite you to celebrate International Music Day at an unforgettable Jazz evening in the company of the famous jazz performer Olga Markova. This evening promises to be a real feast for all jazz lovers\, where each note and chord is filled with passion and skill. \nWhat awaits you: \n\nAn exclusive performance by Olga Markova\, one of the brightest stars of contemporary jazz.\nA rich program that includes both classic jazz compositions and Olga’s original works.\nAn atmosphere of coziness and creativity\, perfect for immersing yourself in the world of jazz music.\nThe opportunity to interact with the performer and ask questions after the concert.\n\nWho the event is for: For everyone who appreciates jazz and seeks inspiration in music. This evening will be the perfect choice for music lovers and newcomers to the world of jazz.
URL:https://platformartvalencia.com/en/event/jazz-evening-with-olga-markova/
LOCATION:Большой зал
CATEGORIES:Adults,All events
ATTACH;FMTTYPE=image/jpeg:https://platformartvalencia.com/wp-content/uploads/2024/01/jass_event-min.jpeg
END:VEVENT
END:VCALENDAR